Package: GenomAutomorphism Version: 1.8.1 Command: chmod a+r GenomAutomorphism -R && F:\biocbuild\bbs-3.20-bioc\R\bin\R.exe CMD build --keep-empty-dirs --no-resave-data GenomAutomorphism StartedAt: 2025-03-31 19:10:48 -0400 (Mon, 31 Mar 2025) EndedAt: 2025-03-31 19:13:26 -0400 (Mon, 31 Mar 2025) EllapsedTime: 157.9 seconds RetCode: 0 Status: OK PackageFile: GenomAutomorphism_1.8.1.tar.gz PackageFileSize: 1.153 MiB