Package: GeneticsPed Version: 1.68.0 Command: /home/biocbuild/R/R/bin/R CMD INSTALL GeneticsPed StartedAt: 2025-03-31 20:14:40 -0000 (Mon, 31 Mar 2025) EndedAt: 2025-03-31 20:15:02 -0000 (Mon, 31 Mar 2025) EllapsedTime: 21.7 seconds RetCode: 0 Status: OK