Package: GeneTonic Version: 3.0.0 Command: /home/biocbuild/R/R/bin/R CMD INSTALL GeneTonic StartedAt: 2025-03-31 21:00:53 -0000 (Mon, 31 Mar 2025) EndedAt: 2025-03-31 21:01:59 -0000 (Mon, 31 Mar 2025) EllapsedTime: 65.9 seconds RetCode: 0 Status: OK