Package: GeneTonic Version: 3.0.0 Command: /Library/Frameworks/R.framework/Resources/bin/R CMD INSTALL GeneTonic StartedAt: 2025-03-31 16:22:53 -0400 (Mon, 31 Mar 2025) EndedAt: 2025-03-31 16:24:37 -0400 (Mon, 31 Mar 2025) EllapsedTime: 104.0 seconds RetCode: 0 Status: OK