Package: GeneTonic Version: 3.0.0 Command: /Library/Frameworks/R.framework/Resources/bin/R CMD INSTALL GeneTonic StartedAt: 2025-03-31 17:38:25 -0400 (Mon, 31 Mar 2025) EndedAt: 2025-03-31 17:39:23 -0400 (Mon, 31 Mar 2025) EllapsedTime: 58.3 seconds RetCode: 0 Status: OK