Package: GeneTonic Version: 3.0.0 Command: /Library/Frameworks/R.framework/Resources/bin/R CMD check --install=check:GeneTonic.install-out.txt --library=/Library/Frameworks/R.framework/Resources/library --no-vignettes --timings GeneTonic_3.0.0.tar.gz StartedAt: 2025-04-01 20:04:57 -0400 (Tue, 01 Apr 2025) EndedAt: 2025-04-01 20:17:35 -0400 (Tue, 01 Apr 2025) EllapsedTime: 758.1 seconds RetCode: 0 Status: OK CheckDir: GeneTonic.Rcheck Warnings: 0