Package: GeneTonic Version: 3.0.0 Command: /Library/Frameworks/R.framework/Resources/bin/R CMD build --keep-empty-dirs --no-resave-data GeneTonic StartedAt: 2025-03-31 23:58:47 -0400 (Mon, 31 Mar 2025) EndedAt: 2025-04-01 00:00:58 -0400 (Tue, 01 Apr 2025) EllapsedTime: 131.1 seconds RetCode: 0 Status: OK PackageFile: GeneTonic_3.0.0.tar.gz PackageFileSize: 9.87 MiB