Package: GeneTonic Version: 3.0.0 Command: rm -rf GeneTonic.buildbin-libdir && mkdir GeneTonic.buildbin-libdir && /Users/biocbuild/BBS/utils/build-universal.sh GeneTonic_3.0.0.tar.gz /Library/Frameworks/R.framework/Resources/bin/R GeneTonic.buildbin-libdir StartedAt: 2025-04-02 14:28:54 -0400 (Wed, 02 Apr 2025) EndedAt: 2025-04-02 14:30:02 -0400 (Wed, 02 Apr 2025) EllapsedTime: 68.1 seconds RetCode: 0 Status: OK PackageFile: GeneTonic_3.0.0.tgz PackageFileSize: 9.988 MiB