Package: GeneStructureTools Version: 1.26.0 Command: /home/biocbuild/R/R/bin/R CMD INSTALL GeneStructureTools StartedAt: 2025-03-31 20:48:20 -0000 (Mon, 31 Mar 2025) EndedAt: 2025-03-31 20:49:25 -0000 (Mon, 31 Mar 2025) EllapsedTime: 65.1 seconds RetCode: 0 Status: OK