Package: GeneStructureTools Version: 1.26.0 Command: /home/biocbuild/R/R/bin/R CMD check --install=check:GeneStructureTools.install-out.txt --library=/home/biocbuild/R/R/site-library --no-vignettes --timings GeneStructureTools_1.26.0.tar.gz StartedAt: 2025-04-01 06:45:42 -0000 (Tue, 01 Apr 2025) EndedAt: 2025-04-01 06:53:34 -0000 (Tue, 01 Apr 2025) EllapsedTime: 472.3 seconds RetCode: 0 Status: OK CheckDir: GeneStructureTools.Rcheck Warnings: 0