Package: GeneStructureTools Version: 1.26.0 Command: /home/biocbuild/R/R/bin/R CMD build --keep-empty-dirs --no-resave-data GeneStructureTools StartedAt: 2025-03-31 23:40:26 -0000 (Mon, 31 Mar 2025) EndedAt: 2025-03-31 23:44:00 -0000 (Mon, 31 Mar 2025) EllapsedTime: 214.2 seconds RetCode: 0 Status: OK PackageFile: GeneStructureTools_1.26.0.tar.gz PackageFileSize: 2.315 MiB