Package: GeneStructureTools Version: 1.26.0 Command: chmod a+r GeneStructureTools -R && F:\biocbuild\bbs-3.20-bioc\R\bin\R.exe CMD build --keep-empty-dirs --no-resave-data GeneStructureTools StartedAt: 2025-03-31 19:10:09 -0400 (Mon, 31 Mar 2025) EndedAt: 2025-03-31 19:13:27 -0400 (Mon, 31 Mar 2025) EllapsedTime: 197.8 seconds RetCode: 0 Status: OK PackageFile: GeneStructureTools_1.26.0.tar.gz PackageFileSize: 2.174 MiB