Package: GeneSelectMMD Version: 2.50.0 Command: /Library/Frameworks/R.framework/Resources/bin/R CMD build --keep-empty-dirs --no-resave-data GeneSelectMMD StartedAt: 2025-03-31 18:54:07 -0400 (Mon, 31 Mar 2025) EndedAt: 2025-03-31 18:54:41 -0400 (Mon, 31 Mar 2025) EllapsedTime: 34.4 seconds RetCode: 0 Status: OK PackageFile: GeneSelectMMD_2.50.0.tar.gz PackageFileSize: 454.9 KiB