Package: GeneRegionScan Version: 1.62.0 Command: /Library/Frameworks/R.framework/Resources/bin/R CMD build --keep-empty-dirs --no-resave-data GeneRegionScan StartedAt: 2025-03-31 18:53:56 -0400 (Mon, 31 Mar 2025) EndedAt: 2025-03-31 18:55:16 -0400 (Mon, 31 Mar 2025) EllapsedTime: 80.0 seconds RetCode: 0 Status: OK PackageFile: GeneRegionScan_1.62.0.tar.gz PackageFileSize: 7.482 MiB