Package: GeneOverlap Version: 1.42.0 Command: /home/biocbuild/R/R/bin/R CMD INSTALL GeneOverlap StartedAt: 2025-03-31 20:13:44 -0000 (Mon, 31 Mar 2025) EndedAt: 2025-03-31 20:14:10 -0000 (Mon, 31 Mar 2025) EllapsedTime: 26.9 seconds RetCode: 0 Status: OK