Package: GeneOverlap Version: 1.42.0 Command: F:\biocbuild\bbs-3.20-bioc\R\bin\R.exe CMD INSTALL GeneOverlap StartedAt: 2025-03-31 15:24:02 -0400 (Mon, 31 Mar 2025) EndedAt: 2025-03-31 15:24:40 -0400 (Mon, 31 Mar 2025) EllapsedTime: 37.7 seconds RetCode: 0 Status: OK