Package: GeneOverlap Version: 1.42.0 Command: /Library/Frameworks/R.framework/Resources/bin/R CMD build --keep-empty-dirs --no-resave-data GeneOverlap StartedAt: 2025-03-31 18:53:38 -0400 (Mon, 31 Mar 2025) EndedAt: 2025-03-31 18:54:01 -0400 (Mon, 31 Mar 2025) EllapsedTime: 22.9 seconds RetCode: 0 Status: OK PackageFile: GeneOverlap_1.42.0.tar.gz PackageFileSize: 359.6 KiB