Package: GeneOverlap Version: 1.42.0 Command: /Library/Frameworks/R.framework/Resources/bin/R CMD check --install=check:GeneOverlap.install-out.txt --library=/Library/Frameworks/R.framework/Resources/library --no-vignettes --timings GeneOverlap_1.42.0.tar.gz StartedAt: 2025-04-01 20:01:56 -0400 (Tue, 01 Apr 2025) EndedAt: 2025-04-01 20:02:26 -0400 (Tue, 01 Apr 2025) EllapsedTime: 29.8 seconds RetCode: 0 Status: OK CheckDir: GeneOverlap.Rcheck Warnings: 0