Package: GeneNetworkBuilder Version: 1.48.0 Command: /home/biocbuild/bbs-3.20-bioc/R/bin/R CMD build --keep-empty-dirs --no-resave-data --md5 GeneNetworkBuilder StartedAt: 2025-03-31 17:21:23 -0400 (Mon, 31 Mar 2025) EndedAt: 2025-03-31 17:30:30 -0400 (Mon, 31 Mar 2025) EllapsedTime: 547.7 seconds RetCode: 0 Status: OK PackageFile: GeneNetworkBuilder_1.48.0.tar.gz PackageFileSize: 7.378 MiB