Package: GeneNetworkBuilder Version: 1.48.0 Command: /Library/Frameworks/R.framework/Resources/bin/R CMD INSTALL GeneNetworkBuilder StartedAt: 2025-03-31 16:05:19 -0400 (Mon, 31 Mar 2025) EndedAt: 2025-03-31 16:05:55 -0400 (Mon, 31 Mar 2025) EllapsedTime: 35.9 seconds RetCode: 0 Status: OK