Package: GeneGeneInteR Version: 1.32.0 Command: /home/biocbuild/R/R/bin/R CMD INSTALL GeneGeneInteR StartedAt: 2025-03-31 21:00:55 -0000 (Mon, 31 Mar 2025) EndedAt: 2025-03-31 21:01:26 -0000 (Mon, 31 Mar 2025) EllapsedTime: 31.7 seconds RetCode: 0 Status: OK