Package: GeneGeneInteR Version: 1.32.0 Command: /home/biocbuild/bbs-3.20-bioc/R/bin/R CMD build --keep-empty-dirs --no-resave-data --md5 GeneGeneInteR StartedAt: 2025-03-31 17:21:12 -0400 (Mon, 31 Mar 2025) EndedAt: 2025-03-31 17:21:42 -0400 (Mon, 31 Mar 2025) EllapsedTime: 30.0 seconds RetCode: 0 Status: OK PackageFile: GeneGeneInteR_1.32.0.tar.gz PackageFileSize: 1.278 MiB