Package: GeneGeneInteR Version: 1.32.0 Command: /Library/Frameworks/R.framework/Resources/bin/R CMD INSTALL GeneGeneInteR StartedAt: 2025-03-31 16:22:53 -0400 (Mon, 31 Mar 2025) EndedAt: 2025-03-31 16:23:51 -0400 (Mon, 31 Mar 2025) EllapsedTime: 57.4 seconds RetCode: 0 Status: OK