Package: GeneGeneInteR Version: 1.32.0 Command: /Library/Frameworks/R.framework/Resources/bin/R CMD INSTALL GeneGeneInteR StartedAt: 2025-03-31 17:38:30 -0400 (Mon, 31 Mar 2025) EndedAt: 2025-03-31 17:38:58 -0400 (Mon, 31 Mar 2025) EllapsedTime: 27.7 seconds RetCode: 0 Status: OK