Package: GeneBreak Version: 1.36.0 Command: /home/biocbuild/R/R/bin/R CMD check --install=check:GeneBreak.install-out.txt --library=/home/biocbuild/R/R/site-library --no-vignettes --timings GeneBreak_1.36.0.tar.gz StartedAt: 2025-04-01 06:43:06 -0000 (Tue, 01 Apr 2025) EndedAt: 2025-04-01 06:46:03 -0000 (Tue, 01 Apr 2025) EllapsedTime: 177.2 seconds RetCode: 0 Status: OK CheckDir: GeneBreak.Rcheck Warnings: 0