Package: GeneBreak Version: 1.36.0 Command: rm -rf GeneBreak.buildbin-libdir && mkdir GeneBreak.buildbin-libdir && /Users/biocbuild/BBS/utils/build-universal.sh GeneBreak_1.36.0.tar.gz /Library/Frameworks/R.framework/Resources/bin/R GeneBreak.buildbin-libdir StartedAt: 2025-04-02 14:27:36 -0400 (Wed, 02 Apr 2025) EndedAt: 2025-04-02 14:27:58 -0400 (Wed, 02 Apr 2025) EllapsedTime: 21.8 seconds RetCode: 0 Status: OK PackageFile: GeneBreak_1.36.0.tgz PackageFileSize: 4.572 MiB