Package: GenVisR Version: 1.38.0 Command: /Library/Frameworks/R.framework/Resources/bin/R CMD check --install=check:GenVisR.install-out.txt --library=/Library/Frameworks/R.framework/Resources/library --no-vignettes --timings GenVisR_1.38.0.tar.gz StartedAt: 2025-04-01 03:33:43 -0400 (Tue, 01 Apr 2025) EndedAt: 2025-04-01 03:49:38 -0400 (Tue, 01 Apr 2025) EllapsedTime: 955.6 seconds RetCode: 1 Status: ERROR CheckDir: GenVisR.Rcheck Warnings: NA