Package: GenProSeq Version: 1.10.0 Command: /home/biocbuild/R/R/bin/R CMD INSTALL GenProSeq StartedAt: 2025-03-31 21:11:49 -0000 (Mon, 31 Mar 2025) EndedAt: 2025-03-31 21:12:04 -0000 (Mon, 31 Mar 2025) EllapsedTime: 14.0 seconds RetCode: 0 Status: OK