Package: GenProSeq Version: 1.10.0 Command: /home/biocbuild/R/R/bin/R CMD check --install=check:GenProSeq.install-out.txt --library=/home/biocbuild/R/R/site-library --no-vignettes --timings GenProSeq_1.10.0.tar.gz StartedAt: 2025-04-01 06:52:18 -0000 (Tue, 01 Apr 2025) EndedAt: 2025-04-01 06:54:12 -0000 (Tue, 01 Apr 2025) EllapsedTime: 114.1 seconds RetCode: 0 Status: OK CheckDir: GenProSeq.Rcheck Warnings: 0