Package: GeDi Version: 1.2.0 Command: chmod a+r GeDi -R && F:\biocbuild\bbs-3.20-bioc\R\bin\R.exe CMD build --keep-empty-dirs --no-resave-data GeDi StartedAt: 2025-03-31 19:07:51 -0400 (Mon, 31 Mar 2025) EndedAt: 2025-03-31 19:11:38 -0400 (Mon, 31 Mar 2025) EllapsedTime: 227.1 seconds RetCode: 0 Status: OK PackageFile: GeDi_1.2.0.tar.gz PackageFileSize: 3.413 MiB