Package: GateFinder Version: 1.26.0 Command: /home/biocbuild/R/R/bin/R CMD check --install=check:GateFinder.install-out.txt --library=/home/biocbuild/R/R/site-library --no-vignettes --timings GateFinder_1.26.0.tar.gz StartedAt: 2025-04-01 06:38:37 -0000 (Tue, 01 Apr 2025) EndedAt: 2025-04-01 06:39:56 -0000 (Tue, 01 Apr 2025) EllapsedTime: 79.1 seconds RetCode: 0 Status: WARNINGS CheckDir: GateFinder.Rcheck Warnings: 1