Package: GateFinder Version: 1.26.0 Command: F:\biocbuild\bbs-3.20-bioc\R\bin\R.exe CMD INSTALL GateFinder StartedAt: 2025-03-31 15:39:50 -0400 (Mon, 31 Mar 2025) EndedAt: 2025-03-31 15:40:16 -0400 (Mon, 31 Mar 2025) EllapsedTime: 25.7 seconds RetCode: 0 Status: OK