Package: GateFinder Version: 1.26.0 Command: /Library/Frameworks/R.framework/Resources/bin/R CMD check --install=check:GateFinder.install-out.txt --library=/Library/Frameworks/R.framework/Resources/library --no-vignettes --timings GateFinder_1.26.0.tar.gz StartedAt: 2025-04-01 19:42:28 -0400 (Tue, 01 Apr 2025) EndedAt: 2025-04-01 19:43:44 -0400 (Tue, 01 Apr 2025) EllapsedTime: 76.8 seconds RetCode: 0 Status: WARNINGS CheckDir: GateFinder.Rcheck Warnings: 1