Package: GateFinder Version: 1.26.0 Command: rm -rf GateFinder.buildbin-libdir && mkdir GateFinder.buildbin-libdir && /Users/biocbuild/BBS/utils/build-universal.sh GateFinder_1.26.0.tar.gz /Library/Frameworks/R.framework/Resources/bin/R GateFinder.buildbin-libdir StartedAt: 2025-04-02 14:25:52 -0400 (Wed, 02 Apr 2025) EndedAt: 2025-04-02 14:26:07 -0400 (Wed, 02 Apr 2025) EllapsedTime: 15.8 seconds RetCode: 0 Status: OK PackageFile: GateFinder_1.26.0.tgz PackageFileSize: 962.3 KiB