Package: GWENA Version: 1.16.0 Command: /Library/Frameworks/R.framework/Resources/bin/R CMD build --keep-empty-dirs --no-resave-data GWENA StartedAt: 2025-04-01 01:01:14 -0400 (Tue, 01 Apr 2025) EndedAt: 2025-04-01 01:03:27 -0400 (Tue, 01 Apr 2025) EllapsedTime: 133.1 seconds RetCode: 0 Status: OK PackageFile: GWENA_1.16.0.tar.gz PackageFileSize: 4.684 MiB