Package: GWASTools Version: 1.52.0 Command: /Library/Frameworks/R.framework/Resources/bin/R CMD check --install=check:GWASTools.install-out.txt --library=/Library/Frameworks/R.framework/Resources/library --no-vignettes --timings GWASTools_1.52.0.tar.gz StartedAt: 2025-04-01 21:24:15 -0400 (Tue, 01 Apr 2025) EndedAt: 2025-04-01 21:29:12 -0400 (Tue, 01 Apr 2025) EllapsedTime: 297.6 seconds RetCode: 0 Status: OK CheckDir: GWASTools.Rcheck Warnings: 0