Package: GWAS.BAYES Version: 1.16.0 Command: /home/biocbuild/bbs-3.20-bioc/R/bin/R CMD check --install=check:GWAS.BAYES.install-out.txt --library=/home/biocbuild/bbs-3.20-bioc/R/site-library --timings GWAS.BAYES_1.16.0.tar.gz StartedAt: 2025-03-31 22:49:19 -0400 (Mon, 31 Mar 2025) EndedAt: 2025-03-31 22:53:47 -0400 (Mon, 31 Mar 2025) EllapsedTime: 268.5 seconds RetCode: 0 Status: OK CheckDir: GWAS.BAYES.Rcheck Warnings: 0