Package: GWAS.BAYES Version: 1.16.0 Command: /home/biocbuild/bbs-3.20-bioc/R/bin/R CMD build --keep-empty-dirs --no-resave-data --md5 GWAS.BAYES StartedAt: 2025-03-31 17:33:21 -0400 (Mon, 31 Mar 2025) EndedAt: 2025-03-31 17:36:00 -0400 (Mon, 31 Mar 2025) EllapsedTime: 159.2 seconds RetCode: 0 Status: OK PackageFile: GWAS.BAYES_1.16.0.tar.gz PackageFileSize: 1.347 MiB