Package: GWAS.BAYES Version: 1.16.0 Command: /Library/Frameworks/R.framework/Resources/bin/R CMD build --keep-empty-dirs --no-resave-data GWAS.BAYES StartedAt: 2025-04-01 00:57:28 -0400 (Tue, 01 Apr 2025) EndedAt: 2025-04-01 01:01:29 -0400 (Tue, 01 Apr 2025) EllapsedTime: 240.8 seconds RetCode: 0 Status: OK PackageFile: GWAS.BAYES_1.16.0.tar.gz PackageFileSize: 1.347 MiB