Package: GWAS.BAYES Version: 1.16.0 Command: rm -rf GWAS.BAYES.buildbin-libdir && mkdir GWAS.BAYES.buildbin-libdir && /Users/biocbuild/BBS/utils/build-universal.sh GWAS.BAYES_1.16.0.tar.gz /Library/Frameworks/R.framework/Resources/bin/R GWAS.BAYES.buildbin-libdir StartedAt: 2025-04-02 14:40:21 -0400 (Wed, 02 Apr 2025) EndedAt: 2025-04-02 14:40:31 -0400 (Wed, 02 Apr 2025) EllapsedTime: 10.3 seconds RetCode: 0 Status: OK PackageFile: GWAS.BAYES_1.16.0.tgz PackageFileSize: 2.007 MiB