Package: GUIDEseq Version: 1.36.0 Command: rm -rf GUIDEseq.buildbin-libdir && mkdir GUIDEseq.buildbin-libdir && /Users/biocbuild/BBS/utils/build-universal.sh GUIDEseq_1.36.0.tar.gz /Library/Frameworks/R.framework/Resources/bin/R GUIDEseq.buildbin-libdir StartedAt: 2025-04-02 14:39:51 -0400 (Wed, 02 Apr 2025) EndedAt: 2025-04-02 14:41:02 -0400 (Wed, 02 Apr 2025) EllapsedTime: 70.3 seconds RetCode: 0 Status: OK PackageFile: GUIDEseq_1.36.0.tgz PackageFileSize: 6.095 MiB