Package: GSgalgoR Version: 1.16.0 Command: /home/biocbuild/R/R/bin/R CMD INSTALL GSgalgoR StartedAt: 2025-03-31 20:51:40 -0000 (Mon, 31 Mar 2025) EndedAt: 2025-03-31 20:51:43 -0000 (Mon, 31 Mar 2025) EllapsedTime: 3.0 seconds RetCode: 0 Status: OK