Package: GSgalgoR Version: 1.16.0 Command: chmod a+r GSgalgoR -R && F:\biocbuild\bbs-3.20-bioc\R\bin\R.exe CMD build --keep-empty-dirs --no-resave-data GSgalgoR StartedAt: 2025-03-31 19:24:54 -0400 (Mon, 31 Mar 2025) EndedAt: 2025-03-31 19:26:54 -0400 (Mon, 31 Mar 2025) EllapsedTime: 119.8 seconds RetCode: 0 Status: OK PackageFile: GSgalgoR_1.16.0.tar.gz PackageFileSize: 2.178 MiB