Package: GSgalgoR Version: 1.16.0 Command: rm -rf GSgalgoR.buildbin-libdir && mkdir GSgalgoR.buildbin-libdir && F:\biocbuild\bbs-3.20-bioc\R\bin\R.exe CMD INSTALL --build --library=GSgalgoR.buildbin-libdir GSgalgoR_1.16.0.tar.gz StartedAt: 2025-04-01 08:21:12 -0400 (Tue, 01 Apr 2025) EndedAt: 2025-04-01 08:21:30 -0400 (Tue, 01 Apr 2025) EllapsedTime: 18.1 seconds RetCode: 0 Status: OK PackageFile: GSgalgoR_1.16.0.zip PackageFileSize: 2.246 MiB