Package: GSVA Version: 2.0.7 Command: /Library/Frameworks/R.framework/Resources/bin/R CMD INSTALL GSVA StartedAt: 2025-03-31 16:25:03 -0400 (Mon, 31 Mar 2025) EndedAt: 2025-03-31 16:26:27 -0400 (Mon, 31 Mar 2025) EllapsedTime: 83.6 seconds RetCode: 0 Status: OK