Package: GSVA Version: 2.0.7 Command: /Library/Frameworks/R.framework/Resources/bin/R CMD build --keep-empty-dirs --no-resave-data GSVA StartedAt: 2025-03-31 19:13:12 -0400 (Mon, 31 Mar 2025) EndedAt: 2025-03-31 19:17:58 -0400 (Mon, 31 Mar 2025) EllapsedTime: 285.3 seconds RetCode: 0 Status: OK PackageFile: GSVA_2.0.7.tar.gz PackageFileSize: 2.377 MiB