Package: GSVA Version: 2.0.7 Command: rm -rf GSVA.buildbin-libdir && mkdir GSVA.buildbin-libdir && /Users/biocbuild/BBS/utils/build-universal.sh GSVA_2.0.7.tar.gz /Library/Frameworks/R.framework/Resources/bin/R GSVA.buildbin-libdir StartedAt: 2025-04-01 12:01:14 -0400 (Tue, 01 Apr 2025) EndedAt: 2025-04-01 12:02:39 -0400 (Tue, 01 Apr 2025) EllapsedTime: 84.7 seconds RetCode: 0 Status: OK PackageFile: GSVA_2.0.7.tgz PackageFileSize: 2.258 MiB