Package: GSVA Version: 2.0.7 Maintainer: Robert Castelo MaintainerEmail: robert.castelo at upf.edu git_url: https://git.bioconductor.org/packages/GSVA git_branch: RELEASE_3_20 git_last_commit: b63c3a0 git_last_commit_date: 2025-03-21 08:50:28 -0400 (Fri, 21 Mar 2025)