Package: GSReg Version: 1.40.0 Command: /Library/Frameworks/R.framework/Resources/bin/R CMD check --install=check:GSReg.install-out.txt --library=/Library/Frameworks/R.framework/Resources/library --no-vignettes --timings GSReg_1.40.0.tar.gz StartedAt: 2025-04-01 21:20:26 -0400 (Tue, 01 Apr 2025) EndedAt: 2025-04-01 21:23:23 -0400 (Tue, 01 Apr 2025) EllapsedTime: 176.9 seconds RetCode: 0 Status: WARNINGS CheckDir: GSReg.Rcheck Warnings: 3