Package: GSRI Version: 2.54.0 Command: /Library/Frameworks/R.framework/Resources/bin/R CMD build --keep-empty-dirs --no-resave-data GSRI StartedAt: 2025-03-31 19:12:40 -0400 (Mon, 31 Mar 2025) EndedAt: 2025-03-31 19:14:20 -0400 (Mon, 31 Mar 2025) EllapsedTime: 100.1 seconds RetCode: 0 Status: OK PackageFile: GSRI_2.54.0.tar.gz PackageFileSize: 339.3 KiB